BEGIN:VCALENDAR
VERSION:2.0
PRODID:-//Wissenschaft(s)Spiele - ECPv6.15.20//NONSGML v1.0//EN
CALSCALE:GREGORIAN
METHOD:PUBLISH
X-WR-CALNAME:Wissenschaft(s)Spiele
X-ORIGINAL-URL:https://wissenschaftsspiele.de
X-WR-CALDESC:Veranstaltungen für Wissenschaft(s)Spiele
REFRESH-INTERVAL;VALUE=DURATION:PT1H
X-Robots-Tag:noindex
X-PUBLISHED-TTL:PT1H
BEGIN:VTIMEZONE
TZID:UTC
BEGIN:STANDARD
TZOFFSETFROM:+0000
TZOFFSETTO:+0000
TZNAME:UTC
DTSTART:20250101T000000
END:STANDARD
END:VTIMEZONE
BEGIN:VEVENT
DTSTART;VALUE=DATE:20260424
DTEND;VALUE=DATE:20260427
DTSTAMP:20260424T061029
CREATED:20260124T153327Z
LAST-MODIFIED:20260124T153327Z
UID:919-1776988800-1777247999@wissenschaftsspiele.de
SUMMARY:Spiel Doch! in Dortmund
DESCRIPTION:Alle weiteren Infos unter gibt es hier. \n  \nÖffnungszeiten:\nFreitag & Samstag: 10 bis 19 Uhr; Sonntag: 10 bis 18 Uhr \nEintrittspreise:\nTageskarte Vorverkauf: 12\,00 € (nur digital)\nTageskarte vor Ort: 15\,00 €\n(Vor Ort erhalten Schüler und Studenten ermäßigte Karten von 12 € gegen Vorlage des entsprechenden Ausweises) \nDauerkarte Vorverkauf: 30\,00 € (nur Print inkl. Versand)\nDauerkarte vor Ort: 36\,00 € \nVor Ort gibt es noch eine Tages-Familienkarte für 34\,00 € zu kaufen (2 Erwachsene + bis zu 2 Jugendliche von 11 bis 17 Jahren). \nKinder bis 10 Jahre in Begleitung ihrer Familie oder eines Elternteils haben freien Eintritt. \nKörperlich oder geistig beeinträchtigte Besucher\, die auf eine Begleitperson angewiesen sind\, können diese Begleitperson kostenlos mitbringen. Ein entsprechender Nachweis ist am Einlass erforderlich.
URL:https://wissenschaftsspiele.de/veranstaltung/spiel-doch-in-dortmund/
LOCATION:Messe Dortmund\, Rheinlanddamm 200\, Dortmund\, Nordrhein-Westfalen\, 44139
ATTACH;FMTTYPE=image/png:https://wissenschaftsspiele.de/wp-content/uploads/2026/01/SDM_D_Logo-300x125-1.png
END:VEVENT
END:VCALENDAR